BEGIN:VCALENDAR
VERSION:2.0
PRODID:-//Public Interest Advocacy Centre - ECPv4.6.9//NONSGML v1.0//EN
CALSCALE:GREGORIAN
METHOD:PUBLISH
X-WR-CALNAME:Public Interest Advocacy Centre
X-ORIGINAL-URL:https://www.piac.asn.au
X-WR-CALDESC:Events for Public Interest Advocacy Centre
BEGIN:VEVENT
DTSTART;TZID=Australia/Sydney:20180320T090000
DTEND;TZID=Australia/Sydney:20180320T163000
DTSTAMP:20180226T091932
CREATED:20171123T222320Z
LAST-MODIFIED:20171123T222559Z
UID:13852-1521536400-1521563400@www.piac.asn.au
SUMMARY:Advocacy Strategies
DESCRIPTION:This day will teach you the building blocks of good advocacy and how you can effectively work with government and other decision-making bodies. Participants will have the opportunity to plan an advocacy strategy around a real issue in their community or from their work. \nRead more… \nThis course can be taken in conjunction with Advocacy Skills to form a two-day workshop which will provide an unprecedented opportunity to plan an effective strategy around issues that affect your community. You will complete strategy planning\, learn the best way to get your issue heard in parliament\, prepare your advocacy tool kit\, write a media release\, negotiate for your best outcomes and put together a lobbying kit. \nCost: $250 per course\, inc. GST payable (or $125.00 inc. GST if you are paying for yourself and receive a Centrelink pension\, benefit or a health care card\, photocopy only required; PIAC will not use this information for any purpose except determining your eligibility for the discounted training rate). \n
URL:https://www.piac.asn.au/event/advocacy-strategies-mar2018/
LOCATION:Level 5\, 175 Liverpool St \, Sydney\, NSW\, 2000\, Australia
CATEGORIES:Advocacy Strategies
END:VEVENT
BEGIN:VEVENT
DTSTART;TZID=Australia/Sydney:20180321T090000
DTEND;TZID=Australia/Sydney:20180321T163000
DTSTAMP:20180226T091932
CREATED:20171123T215653Z
LAST-MODIFIED:20171123T222141Z
UID:13836-1521622800-1521649800@www.piac.asn.au
SUMMARY:Advocacy Skills
DESCRIPTION:This day will teach you the building blocks of good advocacy and how you can effectively work with government and other decision-making bodies. Participants will have the opportunity to plan an advocacy strategy around a real issue in their community or from their work. \nRead more… \nThis course can be taken in conjunction with Advocacy Skills to form a two-day workshop which will provide an unprecedented opportunity to plan an effective strategy around issues that affect your community. You will complete strategy planning\, learn the best way to get your issue heard in parliament\, prepare your advocacy tool kit\, write a media release\, negotiate for your best outcomes and put together a lobbying kit. \nCost: $250 per course\, inc. GST payable (or $125.00 inc. GST if you are paying for yourself and receive a Centrelink pension\, benefit or a health care card\, photocopy only required; PIAC will not use this information for any purpose except determining your eligibility for the discounted training rate). \n
URL:https://www.piac.asn.au/event/advocacy-skills-mar2018/
LOCATION:Level 5\, 175 Liverpool St \, Sydney\, NSW\, 2000\, Australia
CATEGORIES:Advocacy Skills
END:VEVENT
BEGIN:VEVENT
DTSTART;TZID=Australia/Sydney:20180410T090000
DTEND;TZID=Australia/Sydney:20180410T163000
DTSTAMP:20180226T091932
CREATED:20171123T222734Z
LAST-MODIFIED:20180222T042340Z
UID:13857-1523350800-1523377800@www.piac.asn.au
SUMMARY:Tenancy Law for Non-Lawyers
DESCRIPTION:A one-day introduction to tenancy laws for community workers who assist or advocate for clients about housing. \nLearn how to help your clients with their tenancy and housing issues with up-to-date and thorough information from the experts at the Tenants’ Union of NSW. This one-day workshop will help to clarify the complicated field of tenancy law and give you knowledge\, skills\, and confidence in this area. \nPresenter: Grant Arbuthnot\, Principal Legal Officer\, Tenants’ Union of NSW \nRead more about Tenancy Law for Non-Lawyers \n  \n
URL:https://www.piac.asn.au/event/tenancy-law-for-non-lawyers-apr2018/
LOCATION:Level 5\, 175 Liverpool St \, Sydney\, NSW\, 2000\, Australia
CATEGORIES:Tenancy Law for Non-Lawyers
END:VEVENT
BEGIN:VEVENT
DTSTART;TZID=Australia/Sydney:20180502T090000
DTEND;TZID=Australia/Sydney:20180502T163000
DTSTAMP:20180226T091932
CREATED:20171123T223106Z
LAST-MODIFIED:20171123T223419Z
UID:13861-1525251600-1525278600@www.piac.asn.au
SUMMARY:Advanced Negotiation Skills
DESCRIPTION:Workshop Covers\nHaving the skills and confidence to negotiate is an essential part of successful advocacy. You will learn to strengthen your bargaining position through thoughtful planning\, developing effective skills\, strategies and techniques\, and discovering how you can identify your own value and power\, in any negotiation. \nRead more about Advanced Negotiation Skills… \nCost: $250 per course\, inc. GST payable (or $125.00 inc. GST if you are paying for yourself and receive a Centrelink pension\, benefit or a health care card\, photocopy only required; PIAC will not use this information for any purpose except determining your eligibility for the discounted training rate). \n
URL:https://www.piac.asn.au/event/advanced-negotiation-skills-may2018/
LOCATION:Level 5\, 175 Liverpool St \, Sydney\, NSW\, 2000\, Australia
CATEGORIES:Advanced Negotiation Skills
END:VEVENT
BEGIN:VEVENT
DTSTART;TZID=Australia/Sydney:20180508T090000
DTEND;TZID=Australia/Sydney:20180508T163000
DTSTAMP:20180226T091932
CREATED:20171123T223501Z
LAST-MODIFIED:20171123T224108Z
UID:13866-1525770000-1525797000@www.piac.asn.au
SUMMARY:Advanced Media Skills
DESCRIPTION:Workshop Covers\nLearn how to work the media. In this unique workshop you will build up your media skills and receive personal coaching from leading industry professionals. You will develop an understanding of what the media want\, getting the message out\, what to do when things go wrong and developing on-going relations with the media. \nRead more about Advanced Media Skills \n
URL:https://www.piac.asn.au/event/advanced-media-skills-may2018/
LOCATION:Level 5\, 175 Liverpool St \, Sydney\, NSW\, 2000\, Australia
CATEGORIES:Advanced Media Skills
END:VEVENT
BEGIN:VEVENT
DTSTART;TZID=Australia/Sydney:20180529T100000
DTEND;TZID=Australia/Sydney:20180529T130000
DTSTAMP:20180226T091932
CREATED:20171123T223820Z
LAST-MODIFIED:20171123T224020Z
UID:13870-1527588000-1527598800@www.piac.asn.au
SUMMARY:Human Rights Law in Practice
DESCRIPTION:This workshop is for community workers to understand Human Rights and how Human Rights laws are applied in Australia.  You do not need a background in law to participate in this workshop.  It is relevant for community workers and volunteers seeking to support and uphold the Human Rights of people in their communities. \nRead more… \n
URL:https://www.piac.asn.au/event/human-rights-law-in-practice-may2018/
LOCATION:Level 5\, 175 Liverpool St \, Sydney\, NSW\, 2000\, Australia
CATEGORIES:Human Rights Law in Practice
END:VEVENT
END:VCALENDAR